BEGIN:VCALENDAR
VERSION:2.0
PRODID:-//wp-events-plugin.com//7.2.3.1//EN
TZID:Europe/Berlin
X-WR-TIMEZONE:Europe/Berlin
BEGIN:VEVENT
UID:1808@tsv-bebra.de
DTSTART;TZID=Europe/Berlin:20250509T103000
DTEND;TZID=Europe/Berlin:20250509T180000
DTSTAMP:20250610T111628Z
URL:https://www.tsv-bebra.de/tennis/events/schleifchenturnier-2025/
SUMMARY:Schleifchenturnier 2025
DESCRIPTION:Einladung zum Schleifchenturnier 2025\nLiebe Tennisspieler/inne
 n\,\n\nunser Schleifchenturnier in diesem Jahr findet am Pfingstmontag\n09
 .Juni 2025\nstatt. Es werden Doppelpaarungen (möglichstals Mixed) im Vorf
 eld ausgelost und vor Spielbeginn bekannt gegeben. Bitte tragt euch bis zu
 m 01.06.2025 in die ausgehängte Liste ein\, oder per Mail unter ingridkal
 tenbach1@gmail.com!\n\nFür das leibliche Wohl wird gesorgt.\n\nBeginn: 10
  Uhr\nOrt: Tennisanlage zum Unterwerk 1\n\nWir freuen uns auf euch und hof
 fen auf eine rege Beteiligung.\n\nDer Vorstand der Tennisabteilung\n\nhttp
 s://www.tsv-bebra.de/tennis/schleifchenturnier/
ATTACH;FMTTYPE=image/jpeg:https://www.tsv-bebra.de/tennis/wp-content/uploa
 ds/2025/04/IMG_20230916_115512-scaled.jpg
CATEGORIES:Tennisanlage
LOCATION:Tennisanlage Bebra\, Zum Unterwerk\, 36179 Bebra\, Bebra\, Hessen\
 , 36179\, Deutschland
X-APPLE-STRUCTURED-LOCATION;VALUE=URI;X-ADDRESS=Zum Unterwerk\, 36179 Bebra
 \, Bebra\, Hessen\, 36179\, Deutschland;X-APPLE-RADIUS=100;X-TITLE=Tennisa
 nlage Bebra:geo:0,0
END:VEVENT
BEGIN:VTIMEZONE
TZID:Europe/Berlin
X-LIC-LOCATION:Europe/Berlin
BEGIN:DAYLIGHT
DTSTART:20250330T030000
TZOFFSETFROM:+0100
TZOFFSETTO:+0200
TZNAME:CEST
END:DAYLIGHT
END:VTIMEZONE
END:VCALENDAR