BEGIN:VCALENDAR
VERSION:2.0
PRODID:-//wp-events-plugin.com//7.2.3.1//EN
TZID:Europe/Berlin
X-WR-TIMEZONE:Europe/Berlin
BEGIN:VEVENT
UID:1795@tsv-bebra.de
DTSTART;TZID=Europe/Berlin:20250614T140000
DTEND;TZID=Europe/Berlin:20250614T180000
DTSTAMP:20250414T070753Z
URL:https://www.tsv-bebra.de/tennis/events/medenspiel-14-06-2025-2/
SUMMARY:Medenspiel - 14.06.2025
DESCRIPTION:G12 KA\n\nMSG TSV Bebra/BW Bad Hersfeld II - TC Nüsttal\n\nSpi
 elbericht unter:\n\nSpielbericht
ATTACH;FMTTYPE=image/jpeg:https://www.tsv-bebra.de/tennis/wp-content/uploa
 ds/2025/02/tennis-7932067_1280.jpg
CATEGORIES:Medenspiele
LOCATION:Tennisanlage Bebra\, Zum Unterwerk\, 36179 Bebra\, Bebra\, Hessen\
 , 36179\, Deutschland
X-APPLE-STRUCTURED-LOCATION;VALUE=URI;X-ADDRESS=Zum Unterwerk\, 36179 Bebra
 \, Bebra\, Hessen\, 36179\, Deutschland;X-APPLE-RADIUS=100;X-TITLE=Tennisa
 nlage Bebra:geo:0,0
END:VEVENT
BEGIN:VTIMEZONE
TZID:Europe/Berlin
X-LIC-LOCATION:Europe/Berlin
BEGIN:DAYLIGHT
DTSTART:20250330T030000
TZOFFSETFROM:+0100
TZOFFSETTO:+0200
TZNAME:CEST
END:DAYLIGHT
END:VTIMEZONE
END:VCALENDAR