BEGIN:VCALENDAR
VERSION:2.0
PRODID:-//wp-events-plugin.com//7.2.3.1//EN
TZID:Europe/Berlin
X-WR-TIMEZONE:Europe/Berlin
BEGIN:VEVENT
UID:1807@tsv-bebra.de
DTSTART;TZID=Europe/Berlin:20250503T103000
DTEND;TZID=Europe/Berlin:20250503T180000
DTSTAMP:20250513T142224Z
URL:https://www.tsv-bebra.de/tennis/events/die-freiluftsaison-beginnt-wied
 er/
SUMMARY:Die Freiluftsaison beginnt wieder
DESCRIPTION:Grund genug\, die Saison auf unserer schönen Anlage zu eröffn
 en.\nWir laden zu einigen gemütlichen Stunden am 03.05.2025 ab 10:30 Uhr 
 ein.\nDer Grill wird angeworfen und gekühlte Getränke stehen auch bereit
 .\nFreies Spielen auf allen 4 Plätzen.\nWir freuen uns auf Euer Erscheine
 n.\n\nMeldet Euch bis zum 27.04.2025 bei Heidi Brenner\nheidi.brenner@free
 net.de\n\nBilder zur Veranstaltung findet ihr unter:\n\nhttps://www.tsv-be
 bra.de/tennis/die-freiluftsaison-beginnt-wieder/
ATTACH;FMTTYPE=image/jpeg:https://www.tsv-bebra.de/tennis/wp-content/uploa
 ds/2025/04/IMG_20230916_115512-scaled.jpg
CATEGORIES:Tennisanlage
LOCATION:Tennisanlage Bebra\, Zum Unterwerk\, 36179 Bebra\, Bebra\, Hessen\
 , 36179\, Deutschland
X-APPLE-STRUCTURED-LOCATION;VALUE=URI;X-ADDRESS=Zum Unterwerk\, 36179 Bebra
 \, Bebra\, Hessen\, 36179\, Deutschland;X-APPLE-RADIUS=100;X-TITLE=Tennisa
 nlage Bebra:geo:0,0
END:VEVENT
BEGIN:VTIMEZONE
TZID:Europe/Berlin
X-LIC-LOCATION:Europe/Berlin
BEGIN:DAYLIGHT
DTSTART:20250330T030000
TZOFFSETFROM:+0100
TZOFFSETTO:+0200
TZNAME:CEST
END:DAYLIGHT
END:VTIMEZONE
END:VCALENDAR